BEGIN:VCALENDAR
VERSION:2.0
PRODID:-//monopop - ECPv6.15.20//NONSGML v1.0//EN
CALSCALE:GREGORIAN
METHOD:PUBLISH
X-WR-CALNAME:monopop
X-ORIGINAL-URL:https://monopop.eu
X-WR-CALDESC:Veranstaltungen für monopop
REFRESH-INTERVAL;VALUE=DURATION:PT1H
X-Robots-Tag:noindex
X-PUBLISHED-TTL:PT1H
BEGIN:VTIMEZONE
TZID:UTC
BEGIN:STANDARD
TZOFFSETFROM:+0000
TZOFFSETTO:+0000
TZNAME:UTC
DTSTART:20220101T000000
END:STANDARD
END:VTIMEZONE
BEGIN:VEVENT
DTSTART;TZID=UTC:20230414T190000
DTEND;TZID=UTC:20230414T220000
DTSTAMP:20260424T163102
CREATED:20241107T175426Z
LAST-MODIFIED:20241107T175426Z
UID:370-1681498800-1681509600@monopop.eu
SUMMARY:Open Stage Augsburg
DESCRIPTION:
URL:https://monopop.eu/event/open-stage-augsburg/
LOCATION:Kesselmühle\, Augsburg
END:VEVENT
END:VCALENDAR