BEGIN:VCALENDAR
VERSION:2.0
PRODID:-//monopop - ECPv6.15.20//NONSGML v1.0//EN
CALSCALE:GREGORIAN
METHOD:PUBLISH
X-WR-CALNAME:monopop
X-ORIGINAL-URL:https://monopop.eu
X-WR-CALDESC:Veranstaltungen für monopop
REFRESH-INTERVAL;VALUE=DURATION:PT1H
X-Robots-Tag:noindex
X-PUBLISHED-TTL:PT1H
BEGIN:VTIMEZONE
TZID:UTC
BEGIN:STANDARD
TZOFFSETFROM:+0000
TZOFFSETTO:+0000
TZNAME:UTC
DTSTART:20230101T000000
END:STANDARD
END:VTIMEZONE
BEGIN:VEVENT
DTSTART;TZID=UTC:20240825T110000
DTEND;TZID=UTC:20240825T170000
DTSTAMP:20260421T144801
CREATED:20241107T175316Z
LAST-MODIFIED:20241107T175609Z
UID:359-1724583600-1724605200@monopop.eu
SUMMARY:Bardenfestival Blaubeuren
DESCRIPTION:
URL:https://monopop.eu/event/bardenfestival-blaubeuren/
LOCATION:Blaubeuren\, Blaubeuren\, Germany
END:VEVENT
END:VCALENDAR